BEGIN:VCALENDAR
VERSION:2.0
PRODID:-//Ihmert - ECPv6.15.20//NONSGML v1.0//EN
CALSCALE:GREGORIAN
METHOD:PUBLISH
X-WR-CALNAME:Ihmert
X-ORIGINAL-URL:https://www.ihmert.com
X-WR-CALDESC:Veranstaltungen für Ihmert
REFRESH-INTERVAL;VALUE=DURATION:PT1H
X-Robots-Tag:noindex
X-PUBLISHED-TTL:PT1H
BEGIN:VTIMEZONE
TZID:Europe/Berlin
BEGIN:DAYLIGHT
TZOFFSETFROM:+0100
TZOFFSETTO:+0200
TZNAME:CEST
DTSTART:20250330T010000
END:DAYLIGHT
BEGIN:STANDARD
TZOFFSETFROM:+0200
TZOFFSETTO:+0100
TZNAME:CET
DTSTART:20251026T010000
END:STANDARD
BEGIN:DAYLIGHT
TZOFFSETFROM:+0100
TZOFFSETTO:+0200
TZNAME:CEST
DTSTART:20260329T010000
END:DAYLIGHT
BEGIN:STANDARD
TZOFFSETFROM:+0200
TZOFFSETTO:+0100
TZNAME:CET
DTSTART:20261025T010000
END:STANDARD
BEGIN:DAYLIGHT
TZOFFSETFROM:+0100
TZOFFSETTO:+0200
TZNAME:CEST
DTSTART:20270328T010000
END:DAYLIGHT
BEGIN:STANDARD
TZOFFSETFROM:+0200
TZOFFSETTO:+0100
TZNAME:CET
DTSTART:20271031T010000
END:STANDARD
END:VTIMEZONE
BEGIN:VEVENT
DTSTART;TZID=Europe/Berlin:20260531T080000
DTEND;TZID=Europe/Berlin:20260531T170000
DTSTAMP:20260420T191822
CREATED:20260308T083136Z
LAST-MODIFIED:20260420T061335Z
UID:10000003-1780214400-1780246800@www.ihmert.com
SUMMARY:Erste Hilfe Kurs
DESCRIPTION:In Kürze findet ein Erste-Hilfe-Kurs für alle Interessierten statt. Hier werden die wichtigsten Grundlagen vermittelt\, um im Notfall schnell und richtig handeln zu können. \nEingeladen sind alle\, die ihr Wissen auffrischen oder neu erlernen möchten.
URL:https://www.ihmert.com/veranstaltung/erste-hilfe-kurs/
LOCATION:Ihmert\, Widdersdorfer Str. 188\, Köln\, NRW\, 50825
ATTACH;FMTTYPE=image/jpeg:https://www.ihmert.com/wp-content/uploads/2026/04/erste-hilfe.jpeg
ORGANIZER;CN="Wir in Ihmert":MAILTO:c.krenn@elancer-team.de
END:VEVENT
BEGIN:VEVENT
DTSTART;TZID=Europe/Berlin:20260630T080000
DTEND;TZID=Europe/Berlin:20260630T170000
DTSTAMP:20260420T191822
CREATED:20260312T183942Z
LAST-MODIFIED:20260420T061348Z
UID:10000001-1782806400-1782838800@www.ihmert.com
SUMMARY:Neue Wanderbänke
DESCRIPTION:In Kürze werden die neuen Wanderbänke entlang der Wege rund um Ihmert offiziell vorgestellt. Zur kleinen Eröffnung sind alle eingeladen\, die neuen Plätze gemeinsam zu entdecken und die „Bankroute“ einzuweihen. \nNeben kurzen Infos zum Projekt gibt es die Möglichkeit\, die schönsten Aussichtspunkte direkt auszuprobieren und ins Gespräch zu kommen.
URL:https://www.ihmert.com/veranstaltung/neue-wanderbaenke/
LOCATION:Ihmert\, Widdersdorfer Str. 188\, Köln\, NRW\, 50825
ATTACH;FMTTYPE=image/jpeg:https://www.ihmert.com/wp-content/uploads/2026/03/wanderbaenke.jpeg
ORGANIZER;CN="Wir in Ihmert":MAILTO:c.krenn@elancer-team.de
END:VEVENT
BEGIN:VEVENT
DTSTART;TZID=Europe/Berlin:20260731T080000
DTEND;TZID=Europe/Berlin:20260731T170000
DTSTAMP:20260420T191822
CREATED:20260308T083127Z
LAST-MODIFIED:20260420T061357Z
UID:10000002-1785484800-1785517200@www.ihmert.com
SUMMARY:Neue Pflanzkästen für den Frühling
DESCRIPTION:Bald werden die neuen Pflanzkästen im Dorf offiziell vorgestellt. Gemeinsam sollen sie bepflanzt und das Ortsbild weiter verschönert werden. \nAlle sind eingeladen\, vorbeizukommen\, mit anzupacken oder einfach einen Blick auf die neuen Hingucker zu werfen.
URL:https://www.ihmert.com/veranstaltung/neue-pflanzkaesten-fuer-den-fruehling/
LOCATION:Ihmert\, Widdersdorfer Str. 188\, Köln\, NRW\, 50825
ATTACH;FMTTYPE=image/jpeg:https://www.ihmert.com/wp-content/uploads/2026/04/pflanzaktion.jpeg
ORGANIZER;CN="Wir in Ihmert":MAILTO:c.krenn@elancer-team.de
END:VEVENT
END:VCALENDAR