BEGIN:VCALENDAR
VERSION:2.0
PRODID:-//Ihmert - ECPv6.15.20//NONSGML v1.0//EN
CALSCALE:GREGORIAN
METHOD:PUBLISH
X-ORIGINAL-URL:https://www.ihmert.com
X-WR-CALDESC:Veranstaltungen für Ihmert
REFRESH-INTERVAL;VALUE=DURATION:PT1H
X-Robots-Tag:noindex
X-PUBLISHED-TTL:PT1H
BEGIN:VTIMEZONE
TZID:Europe/Berlin
BEGIN:DAYLIGHT
TZOFFSETFROM:+0100
TZOFFSETTO:+0200
TZNAME:CEST
DTSTART:20250330T010000
END:DAYLIGHT
BEGIN:STANDARD
TZOFFSETFROM:+0200
TZOFFSETTO:+0100
TZNAME:CET
DTSTART:20251026T010000
END:STANDARD
BEGIN:DAYLIGHT
TZOFFSETFROM:+0100
TZOFFSETTO:+0200
TZNAME:CEST
DTSTART:20260329T010000
END:DAYLIGHT
BEGIN:STANDARD
TZOFFSETFROM:+0200
TZOFFSETTO:+0100
TZNAME:CET
DTSTART:20261025T010000
END:STANDARD
BEGIN:DAYLIGHT
TZOFFSETFROM:+0100
TZOFFSETTO:+0200
TZNAME:CEST
DTSTART:20270328T010000
END:DAYLIGHT
BEGIN:STANDARD
TZOFFSETFROM:+0200
TZOFFSETTO:+0100
TZNAME:CET
DTSTART:20271031T010000
END:STANDARD
END:VTIMEZONE
BEGIN:VEVENT
DTSTART;TZID=Europe/Berlin:20260904T190000
DTEND;TZID=Europe/Berlin:20260905T233000
DTSTAMP:20260422T002231
CREATED:20260421T142103Z
LAST-MODIFIED:20260421T142323Z
UID:10000040-1788548400-1788651000@www.ihmert.com
SUMMARY:Jubiläum 10 Jahre Wir in Ihmert
DESCRIPTION:Ein ganz besonderes Jubiläum steht an: Der Bürgerverein „Wir in Ihmert e.V.“ wird 10 Jahre alt – und das möchten wir mit dem ganzen Dorf feiern! \nFreut euch auf ein abwechslungsreiches Festwochenende für alle Generationen. Den Auftakt bildet am Freitag ein feierlicher Festakt mit Musik\, Begegnungen – und einem unterhaltsamen Kabarettprogramm\, das mit einem Augenzwinkern auf unser Dorfleben blickt. Gemeinsam werfen wir einen Blick zurück auf das\, was wir in den letzten Jahren erreicht haben. \nAm Samstag wird es dann lebendig\, bunt und familienfreundlich: Beim großen Kinder- und Familienfest erwartet euch ein vielfältiges Programm mit Mitmachaktionen\, Spiel und Spaß für die Kleinen sowie Auftritten aus dem Dorf. Zahlreiche Vereine und Gruppen aus Ihmert gestalten diesen Tag aktiv mit und zeigen\, was unsere Gemeinschaft ausmacht. \nEin besonderes Highlight am Nachmittag: Die längste Kaffeetafel des Dorfes! Kommt zusammen\, nehmt Platz und genießt in geselliger Runde Kaffee\, Kuchen und gute Gespräche – mitten im Dorf und mitten im Leben. Besonders wird den Nachmittag auch der Auftritt einer überregional bekannten Kabarettistin bereichern. \nAuch darüber hinaus ist für das leibliche Wohl bestens gesorgt – von süßen Leckereien bis zu herzhaften Angeboten. \nDen krönenden Abschluss bildet am Abend eine stimmungsvolle Party mit Live-Musik\, bei der wir gemeinsam feiern\, tanzen und auf die nächsten Jahre anstoßen. \n👉 Dieses Jubiläum ist mehr als nur ein Fest – es ist ein Dankeschön an alle\, die sich in den letzten zehn Jahren für unser Dorf engagiert haben\, und eine Einladung an alle\, Teil dieser Gemeinschaft zu sein. \nIhmert feiert – feierst du mit?
URL:https://www.ihmert.com/veranstaltung/jubilaeum-10-jahre-wir-in-ihmert/
LOCATION:Hof Berkenhoff\, Ihmerter Str. 279\, Hemer\, NRW\, 58675\, Germany
ATTACH;FMTTYPE=image/png:https://www.ihmert.com/wp-content/uploads/2026/04/Jubilaeum-1.png
ORGANIZER;CN="Wir in Ihmert e.V.":MAILTO:info@wir-in-ihmert.de
END:VEVENT
END:VCALENDAR