BEGIN:VCALENDAR
VERSION:2.0
PRODID:-//Ihmert - ECPv6.15.20//NONSGML v1.0//EN
CALSCALE:GREGORIAN
METHOD:PUBLISH
X-WR-CALNAME:Ihmert
X-ORIGINAL-URL:https://www.ihmert.com
X-WR-CALDESC:Veranstaltungen für Ihmert
REFRESH-INTERVAL;VALUE=DURATION:PT1H
X-Robots-Tag:noindex
X-PUBLISHED-TTL:PT1H
BEGIN:VTIMEZONE
TZID:Europe/Berlin
BEGIN:DAYLIGHT
TZOFFSETFROM:+0100
TZOFFSETTO:+0200
TZNAME:CEST
DTSTART:20250330T010000
END:DAYLIGHT
BEGIN:STANDARD
TZOFFSETFROM:+0200
TZOFFSETTO:+0100
TZNAME:CET
DTSTART:20251026T010000
END:STANDARD
BEGIN:DAYLIGHT
TZOFFSETFROM:+0100
TZOFFSETTO:+0200
TZNAME:CEST
DTSTART:20260329T010000
END:DAYLIGHT
BEGIN:STANDARD
TZOFFSETFROM:+0200
TZOFFSETTO:+0100
TZNAME:CET
DTSTART:20261025T010000
END:STANDARD
BEGIN:DAYLIGHT
TZOFFSETFROM:+0100
TZOFFSETTO:+0200
TZNAME:CEST
DTSTART:20270328T010000
END:DAYLIGHT
BEGIN:STANDARD
TZOFFSETFROM:+0200
TZOFFSETTO:+0100
TZNAME:CET
DTSTART:20271031T010000
END:STANDARD
END:VTIMEZONE
BEGIN:VEVENT
DTSTART;TZID=Europe/Berlin:20261105T150000
DTEND;TZID=Europe/Berlin:20261105T170000
DTSTAMP:20260421T170427
CREATED:20260421T070957Z
LAST-MODIFIED:20260421T072755Z
UID:10000016-1793890800-1793898000@www.ihmert.com
SUMMARY:Bürgercafé
DESCRIPTION:Einfach mal vorbeikommen\, Platz nehmen und ins Gespräch kommen: Unser Bürgercafé ist der offene Treffpunkt für alle\, die Gemeinschaft erleben möchten. Bei Kaffee und Kuchen entstehen hier Begegnungen\, gute Gespräche und neue Ideen für unser Dorf. \n👉 Kommen Sie vorbei – wir freuen uns auf Sie!
URL:https://www.ihmert.com/veranstaltung/buergercafe/2026-11-05/
LOCATION:Bürgertreff Berkenhoff\, Ihmerter Str. 279\, Hemer\, NRW\, 58675\, Germany
ATTACH;FMTTYPE=image/jpeg:https://www.ihmert.com/wp-content/uploads/2026/04/Buergercafe.jpg
ORGANIZER;CN="Wir in Ihmert e.V.":MAILTO:info@wir-in-ihmert.de
END:VEVENT
BEGIN:VEVENT
DTSTART;TZID=Europe/Berlin:20261119T150000
DTEND;TZID=Europe/Berlin:20261119T170000
DTSTAMP:20260421T170427
CREATED:20260421T070957Z
LAST-MODIFIED:20260421T072755Z
UID:10000017-1795100400-1795107600@www.ihmert.com
SUMMARY:Bürgercafé
DESCRIPTION:Einfach mal vorbeikommen\, Platz nehmen und ins Gespräch kommen: Unser Bürgercafé ist der offene Treffpunkt für alle\, die Gemeinschaft erleben möchten. Bei Kaffee und Kuchen entstehen hier Begegnungen\, gute Gespräche und neue Ideen für unser Dorf. \n👉 Kommen Sie vorbei – wir freuen uns auf Sie!
URL:https://www.ihmert.com/veranstaltung/buergercafe/2026-11-19/
LOCATION:Bürgertreff Berkenhoff\, Ihmerter Str. 279\, Hemer\, NRW\, 58675\, Germany
ATTACH;FMTTYPE=image/jpeg:https://www.ihmert.com/wp-content/uploads/2026/04/Buergercafe.jpg
ORGANIZER;CN="Wir in Ihmert e.V.":MAILTO:info@wir-in-ihmert.de
END:VEVENT
BEGIN:VEVENT
DTSTART;TZID=Europe/Berlin:20261203T150000
DTEND;TZID=Europe/Berlin:20261203T170000
DTSTAMP:20260421T170427
CREATED:20260421T070957Z
LAST-MODIFIED:20260421T072755Z
UID:10000018-1796310000-1796317200@www.ihmert.com
SUMMARY:Bürgercafé
DESCRIPTION:Einfach mal vorbeikommen\, Platz nehmen und ins Gespräch kommen: Unser Bürgercafé ist der offene Treffpunkt für alle\, die Gemeinschaft erleben möchten. Bei Kaffee und Kuchen entstehen hier Begegnungen\, gute Gespräche und neue Ideen für unser Dorf. \n👉 Kommen Sie vorbei – wir freuen uns auf Sie!
URL:https://www.ihmert.com/veranstaltung/buergercafe/2026-12-03/
LOCATION:Bürgertreff Berkenhoff\, Ihmerter Str. 279\, Hemer\, NRW\, 58675\, Germany
ATTACH;FMTTYPE=image/jpeg:https://www.ihmert.com/wp-content/uploads/2026/04/Buergercafe.jpg
ORGANIZER;CN="Wir in Ihmert e.V.":MAILTO:info@wir-in-ihmert.de
END:VEVENT
BEGIN:VEVENT
DTSTART;TZID=Europe/Berlin:20261217T150000
DTEND;TZID=Europe/Berlin:20261217T170000
DTSTAMP:20260421T170427
CREATED:20260421T070957Z
LAST-MODIFIED:20260421T072755Z
UID:10000019-1797519600-1797526800@www.ihmert.com
SUMMARY:Bürgercafé
DESCRIPTION:Einfach mal vorbeikommen\, Platz nehmen und ins Gespräch kommen: Unser Bürgercafé ist der offene Treffpunkt für alle\, die Gemeinschaft erleben möchten. Bei Kaffee und Kuchen entstehen hier Begegnungen\, gute Gespräche und neue Ideen für unser Dorf. \n👉 Kommen Sie vorbei – wir freuen uns auf Sie!
URL:https://www.ihmert.com/veranstaltung/buergercafe/2026-12-17/
LOCATION:Bürgertreff Berkenhoff\, Ihmerter Str. 279\, Hemer\, NRW\, 58675\, Germany
ATTACH;FMTTYPE=image/jpeg:https://www.ihmert.com/wp-content/uploads/2026/04/Buergercafe.jpg
ORGANIZER;CN="Wir in Ihmert e.V.":MAILTO:info@wir-in-ihmert.de
END:VEVENT
END:VCALENDAR