BEGIN:VCALENDAR
VERSION:2.0
PRODID:-//Ihmert - ECPv6.15.20//NONSGML v1.0//EN
CALSCALE:GREGORIAN
METHOD:PUBLISH
X-WR-CALNAME:Ihmert
X-ORIGINAL-URL:https://www.ihmert.com
X-WR-CALDESC:Veranstaltungen für Ihmert
REFRESH-INTERVAL;VALUE=DURATION:PT1H
X-Robots-Tag:noindex
X-PUBLISHED-TTL:PT1H
BEGIN:VTIMEZONE
TZID:Europe/Berlin
BEGIN:DAYLIGHT
TZOFFSETFROM:+0100
TZOFFSETTO:+0200
TZNAME:CEST
DTSTART:20250330T010000
END:DAYLIGHT
BEGIN:STANDARD
TZOFFSETFROM:+0200
TZOFFSETTO:+0100
TZNAME:CET
DTSTART:20251026T010000
END:STANDARD
BEGIN:DAYLIGHT
TZOFFSETFROM:+0100
TZOFFSETTO:+0200
TZNAME:CEST
DTSTART:20260329T010000
END:DAYLIGHT
BEGIN:STANDARD
TZOFFSETFROM:+0200
TZOFFSETTO:+0100
TZNAME:CET
DTSTART:20261025T010000
END:STANDARD
BEGIN:DAYLIGHT
TZOFFSETFROM:+0100
TZOFFSETTO:+0200
TZNAME:CEST
DTSTART:20270328T010000
END:DAYLIGHT
BEGIN:STANDARD
TZOFFSETFROM:+0200
TZOFFSETTO:+0100
TZNAME:CET
DTSTART:20271031T010000
END:STANDARD
END:VTIMEZONE
BEGIN:VEVENT
DTSTART;TZID=Europe/Berlin:20260425T090000
DTEND;TZID=Europe/Berlin:20260425T110000
DTSTAMP:20260421T142344
CREATED:20260421T091747Z
LAST-MODIFIED:20260421T091747Z
UID:10000030-1777107600-1777114800@www.ihmert.com
SUMMARY:Dorf-Frühstück
DESCRIPTION:
URL:https://www.ihmert.com/veranstaltung/dorf-fruehstueck/2026-04-25/
LOCATION:Ev. Kirche Ihmert\, Ihmerter Str. 218\, Hemer\, NRW\, 58675\, Germany
ATTACH;FMTTYPE=image/jpeg:https://www.ihmert.com/wp-content/uploads/2026/04/Hemer-IhmertKirche1-Asio.jpg
ORGANIZER;CN="Evangelische Kirchengemeinde Ihmert":MAILTO:is-kg-ihmert@ekvw.de
END:VEVENT
BEGIN:VEVENT
DTSTART;TZID=Europe/Berlin:20260530T090000
DTEND;TZID=Europe/Berlin:20260530T110000
DTSTAMP:20260421T142344
CREATED:20260421T091747Z
LAST-MODIFIED:20260421T091747Z
UID:10000031-1780131600-1780138800@www.ihmert.com
SUMMARY:Dorf-Frühstück
DESCRIPTION:
URL:https://www.ihmert.com/veranstaltung/dorf-fruehstueck/2026-05-30/
LOCATION:Ev. Kirche Ihmert\, Ihmerter Str. 218\, Hemer\, NRW\, 58675\, Germany
ATTACH;FMTTYPE=image/jpeg:https://www.ihmert.com/wp-content/uploads/2026/04/Hemer-IhmertKirche1-Asio.jpg
ORGANIZER;CN="Evangelische Kirchengemeinde Ihmert":MAILTO:is-kg-ihmert@ekvw.de
END:VEVENT
BEGIN:VEVENT
DTSTART;TZID=Europe/Berlin:20260627T090000
DTEND;TZID=Europe/Berlin:20260627T110000
DTSTAMP:20260421T142344
CREATED:20260421T091747Z
LAST-MODIFIED:20260421T091747Z
UID:10000032-1782550800-1782558000@www.ihmert.com
SUMMARY:Dorf-Frühstück
DESCRIPTION:
URL:https://www.ihmert.com/veranstaltung/dorf-fruehstueck/2026-06-27/
LOCATION:Ev. Kirche Ihmert\, Ihmerter Str. 218\, Hemer\, NRW\, 58675\, Germany
ATTACH;FMTTYPE=image/jpeg:https://www.ihmert.com/wp-content/uploads/2026/04/Hemer-IhmertKirche1-Asio.jpg
ORGANIZER;CN="Evangelische Kirchengemeinde Ihmert":MAILTO:is-kg-ihmert@ekvw.de
END:VEVENT
BEGIN:VEVENT
DTSTART;TZID=Europe/Berlin:20260725T090000
DTEND;TZID=Europe/Berlin:20260725T110000
DTSTAMP:20260421T142344
CREATED:20260421T091747Z
LAST-MODIFIED:20260421T091747Z
UID:10000033-1784970000-1784977200@www.ihmert.com
SUMMARY:Dorf-Frühstück
DESCRIPTION:
URL:https://www.ihmert.com/veranstaltung/dorf-fruehstueck/2026-07-25/
LOCATION:Ev. Kirche Ihmert\, Ihmerter Str. 218\, Hemer\, NRW\, 58675\, Germany
ATTACH;FMTTYPE=image/jpeg:https://www.ihmert.com/wp-content/uploads/2026/04/Hemer-IhmertKirche1-Asio.jpg
ORGANIZER;CN="Evangelische Kirchengemeinde Ihmert":MAILTO:is-kg-ihmert@ekvw.de
END:VEVENT
BEGIN:VEVENT
DTSTART;TZID=Europe/Berlin:20260829T090000
DTEND;TZID=Europe/Berlin:20260829T110000
DTSTAMP:20260421T142344
CREATED:20260421T091747Z
LAST-MODIFIED:20260421T091747Z
UID:10000034-1787994000-1788001200@www.ihmert.com
SUMMARY:Dorf-Frühstück
DESCRIPTION:
URL:https://www.ihmert.com/veranstaltung/dorf-fruehstueck/2026-08-29/
LOCATION:Ev. Kirche Ihmert\, Ihmerter Str. 218\, Hemer\, NRW\, 58675\, Germany
ATTACH;FMTTYPE=image/jpeg:https://www.ihmert.com/wp-content/uploads/2026/04/Hemer-IhmertKirche1-Asio.jpg
ORGANIZER;CN="Evangelische Kirchengemeinde Ihmert":MAILTO:is-kg-ihmert@ekvw.de
END:VEVENT
BEGIN:VEVENT
DTSTART;TZID=Europe/Berlin:20260926T090000
DTEND;TZID=Europe/Berlin:20260926T110000
DTSTAMP:20260421T142344
CREATED:20260421T091747Z
LAST-MODIFIED:20260421T091747Z
UID:10000035-1790413200-1790420400@www.ihmert.com
SUMMARY:Dorf-Frühstück
DESCRIPTION:
URL:https://www.ihmert.com/veranstaltung/dorf-fruehstueck/2026-09-26/
LOCATION:Ev. Kirche Ihmert\, Ihmerter Str. 218\, Hemer\, NRW\, 58675\, Germany
ATTACH;FMTTYPE=image/jpeg:https://www.ihmert.com/wp-content/uploads/2026/04/Hemer-IhmertKirche1-Asio.jpg
ORGANIZER;CN="Evangelische Kirchengemeinde Ihmert":MAILTO:is-kg-ihmert@ekvw.de
END:VEVENT
BEGIN:VEVENT
DTSTART;TZID=Europe/Berlin:20261031T090000
DTEND;TZID=Europe/Berlin:20261031T110000
DTSTAMP:20260421T142344
CREATED:20260421T091747Z
LAST-MODIFIED:20260421T091747Z
UID:10000036-1793437200-1793444400@www.ihmert.com
SUMMARY:Dorf-Frühstück
DESCRIPTION:
URL:https://www.ihmert.com/veranstaltung/dorf-fruehstueck/2026-10-31/
LOCATION:Ev. Kirche Ihmert\, Ihmerter Str. 218\, Hemer\, NRW\, 58675\, Germany
ATTACH;FMTTYPE=image/jpeg:https://www.ihmert.com/wp-content/uploads/2026/04/Hemer-IhmertKirche1-Asio.jpg
ORGANIZER;CN="Evangelische Kirchengemeinde Ihmert":MAILTO:is-kg-ihmert@ekvw.de
END:VEVENT
BEGIN:VEVENT
DTSTART;TZID=Europe/Berlin:20261128T090000
DTEND;TZID=Europe/Berlin:20261128T110000
DTSTAMP:20260421T142344
CREATED:20260421T091747Z
LAST-MODIFIED:20260421T091747Z
UID:10000037-1795856400-1795863600@www.ihmert.com
SUMMARY:Dorf-Frühstück
DESCRIPTION:
URL:https://www.ihmert.com/veranstaltung/dorf-fruehstueck/2026-11-28/
LOCATION:Ev. Kirche Ihmert\, Ihmerter Str. 218\, Hemer\, NRW\, 58675\, Germany
ATTACH;FMTTYPE=image/jpeg:https://www.ihmert.com/wp-content/uploads/2026/04/Hemer-IhmertKirche1-Asio.jpg
ORGANIZER;CN="Evangelische Kirchengemeinde Ihmert":MAILTO:is-kg-ihmert@ekvw.de
END:VEVENT
END:VCALENDAR