BEGIN:VCALENDAR
VERSION:2.0
PRODID:-//Ihmert - ECPv6.15.20//NONSGML v1.0//EN
CALSCALE:GREGORIAN
METHOD:PUBLISH
X-WR-CALNAME:Ihmert
X-ORIGINAL-URL:https://www.ihmert.com
X-WR-CALDESC:Veranstaltungen für Ihmert
REFRESH-INTERVAL;VALUE=DURATION:PT1H
X-Robots-Tag:noindex
X-PUBLISHED-TTL:PT1H
BEGIN:VTIMEZONE
TZID:Europe/Berlin
BEGIN:DAYLIGHT
TZOFFSETFROM:+0100
TZOFFSETTO:+0200
TZNAME:CEST
DTSTART:20250330T010000
END:DAYLIGHT
BEGIN:STANDARD
TZOFFSETFROM:+0200
TZOFFSETTO:+0100
TZNAME:CET
DTSTART:20251026T010000
END:STANDARD
BEGIN:DAYLIGHT
TZOFFSETFROM:+0100
TZOFFSETTO:+0200
TZNAME:CEST
DTSTART:20260329T010000
END:DAYLIGHT
BEGIN:STANDARD
TZOFFSETFROM:+0200
TZOFFSETTO:+0100
TZNAME:CET
DTSTART:20261025T010000
END:STANDARD
BEGIN:DAYLIGHT
TZOFFSETFROM:+0100
TZOFFSETTO:+0200
TZNAME:CEST
DTSTART:20270328T010000
END:DAYLIGHT
BEGIN:STANDARD
TZOFFSETFROM:+0200
TZOFFSETTO:+0100
TZNAME:CET
DTSTART:20271031T010000
END:STANDARD
END:VTIMEZONE
BEGIN:VEVENT
DTSTART;TZID=Europe/Berlin:20260507T150000
DTEND;TZID=Europe/Berlin:20260507T170000
DTSTAMP:20260421T140533
CREATED:20260421T070957Z
LAST-MODIFIED:20260421T072755Z
UID:10000004-1778166000-1778173200@www.ihmert.com
SUMMARY:Bürgercafé
DESCRIPTION:Einfach mal vorbeikommen\, Platz nehmen und ins Gespräch kommen: Unser Bürgercafé ist der offene Treffpunkt für alle\, die Gemeinschaft erleben möchten. Bei Kaffee und Kuchen entstehen hier Begegnungen\, gute Gespräche und neue Ideen für unser Dorf. \n👉 Kommen Sie vorbei – wir freuen uns auf Sie!
URL:https://www.ihmert.com/veranstaltung/buergercafe/2026-05-07/
LOCATION:Bürgertreff Berkenhoff\, Ihmerter Str. 279\, Hemer\, NRW\, 58675\, Germany
ATTACH;FMTTYPE=image/jpeg:https://www.ihmert.com/wp-content/uploads/2026/04/Buergercafe.jpg
ORGANIZER;CN="Wir in Ihmert e.V.":MAILTO:info@wir-in-ihmert.de
END:VEVENT
BEGIN:VEVENT
DTSTART;TZID=Europe/Berlin:20260521T150000
DTEND;TZID=Europe/Berlin:20260521T170000
DTSTAMP:20260421T140533
CREATED:20260421T070957Z
LAST-MODIFIED:20260421T072755Z
UID:10000006-1779375600-1779382800@www.ihmert.com
SUMMARY:Bürgercafé
DESCRIPTION:Einfach mal vorbeikommen\, Platz nehmen und ins Gespräch kommen: Unser Bürgercafé ist der offene Treffpunkt für alle\, die Gemeinschaft erleben möchten. Bei Kaffee und Kuchen entstehen hier Begegnungen\, gute Gespräche und neue Ideen für unser Dorf. \n👉 Kommen Sie vorbei – wir freuen uns auf Sie!
URL:https://www.ihmert.com/veranstaltung/buergercafe/2026-05-21/
LOCATION:Bürgertreff Berkenhoff\, Ihmerter Str. 279\, Hemer\, NRW\, 58675\, Germany
ATTACH;FMTTYPE=image/jpeg:https://www.ihmert.com/wp-content/uploads/2026/04/Buergercafe.jpg
ORGANIZER;CN="Wir in Ihmert e.V.":MAILTO:info@wir-in-ihmert.de
END:VEVENT
BEGIN:VEVENT
DTSTART;TZID=Europe/Berlin:20260618T150000
DTEND;TZID=Europe/Berlin:20260618T170000
DTSTAMP:20260421T140533
CREATED:20260421T070957Z
LAST-MODIFIED:20260421T072755Z
UID:10000007-1781794800-1781802000@www.ihmert.com
SUMMARY:Bürgercafé
DESCRIPTION:Einfach mal vorbeikommen\, Platz nehmen und ins Gespräch kommen: Unser Bürgercafé ist der offene Treffpunkt für alle\, die Gemeinschaft erleben möchten. Bei Kaffee und Kuchen entstehen hier Begegnungen\, gute Gespräche und neue Ideen für unser Dorf. \n👉 Kommen Sie vorbei – wir freuen uns auf Sie!
URL:https://www.ihmert.com/veranstaltung/buergercafe/2026-06-18/
LOCATION:Bürgertreff Berkenhoff\, Ihmerter Str. 279\, Hemer\, NRW\, 58675\, Germany
ATTACH;FMTTYPE=image/jpeg:https://www.ihmert.com/wp-content/uploads/2026/04/Buergercafe.jpg
ORGANIZER;CN="Wir in Ihmert e.V.":MAILTO:info@wir-in-ihmert.de
END:VEVENT
BEGIN:VEVENT
DTSTART;TZID=Europe/Berlin:20260702T150000
DTEND;TZID=Europe/Berlin:20260702T170000
DTSTAMP:20260421T140533
CREATED:20260421T070957Z
LAST-MODIFIED:20260421T072755Z
UID:10000008-1783004400-1783011600@www.ihmert.com
SUMMARY:Bürgercafé
DESCRIPTION:Einfach mal vorbeikommen\, Platz nehmen und ins Gespräch kommen: Unser Bürgercafé ist der offene Treffpunkt für alle\, die Gemeinschaft erleben möchten. Bei Kaffee und Kuchen entstehen hier Begegnungen\, gute Gespräche und neue Ideen für unser Dorf. \n👉 Kommen Sie vorbei – wir freuen uns auf Sie!
URL:https://www.ihmert.com/veranstaltung/buergercafe/2026-07-02/
LOCATION:Bürgertreff Berkenhoff\, Ihmerter Str. 279\, Hemer\, NRW\, 58675\, Germany
ATTACH;FMTTYPE=image/jpeg:https://www.ihmert.com/wp-content/uploads/2026/04/Buergercafe.jpg
ORGANIZER;CN="Wir in Ihmert e.V.":MAILTO:info@wir-in-ihmert.de
END:VEVENT
BEGIN:VEVENT
DTSTART;TZID=Europe/Berlin:20260716T150000
DTEND;TZID=Europe/Berlin:20260716T170000
DTSTAMP:20260421T140533
CREATED:20260421T070957Z
LAST-MODIFIED:20260421T072755Z
UID:10000009-1784214000-1784221200@www.ihmert.com
SUMMARY:Bürgercafé
DESCRIPTION:Einfach mal vorbeikommen\, Platz nehmen und ins Gespräch kommen: Unser Bürgercafé ist der offene Treffpunkt für alle\, die Gemeinschaft erleben möchten. Bei Kaffee und Kuchen entstehen hier Begegnungen\, gute Gespräche und neue Ideen für unser Dorf. \n👉 Kommen Sie vorbei – wir freuen uns auf Sie!
URL:https://www.ihmert.com/veranstaltung/buergercafe/2026-07-16/
LOCATION:Bürgertreff Berkenhoff\, Ihmerter Str. 279\, Hemer\, NRW\, 58675\, Germany
ATTACH;FMTTYPE=image/jpeg:https://www.ihmert.com/wp-content/uploads/2026/04/Buergercafe.jpg
ORGANIZER;CN="Wir in Ihmert e.V.":MAILTO:info@wir-in-ihmert.de
END:VEVENT
BEGIN:VEVENT
DTSTART;TZID=Europe/Berlin:20260806T150000
DTEND;TZID=Europe/Berlin:20260806T170000
DTSTAMP:20260421T140533
CREATED:20260421T070957Z
LAST-MODIFIED:20260421T072755Z
UID:10000010-1786028400-1786035600@www.ihmert.com
SUMMARY:Bürgercafé
DESCRIPTION:Einfach mal vorbeikommen\, Platz nehmen und ins Gespräch kommen: Unser Bürgercafé ist der offene Treffpunkt für alle\, die Gemeinschaft erleben möchten. Bei Kaffee und Kuchen entstehen hier Begegnungen\, gute Gespräche und neue Ideen für unser Dorf. \n👉 Kommen Sie vorbei – wir freuen uns auf Sie!
URL:https://www.ihmert.com/veranstaltung/buergercafe/2026-08-06/
LOCATION:Bürgertreff Berkenhoff\, Ihmerter Str. 279\, Hemer\, NRW\, 58675\, Germany
ATTACH;FMTTYPE=image/jpeg:https://www.ihmert.com/wp-content/uploads/2026/04/Buergercafe.jpg
ORGANIZER;CN="Wir in Ihmert e.V.":MAILTO:info@wir-in-ihmert.de
END:VEVENT
BEGIN:VEVENT
DTSTART;TZID=Europe/Berlin:20260820T150000
DTEND;TZID=Europe/Berlin:20260820T170000
DTSTAMP:20260421T140533
CREATED:20260421T070957Z
LAST-MODIFIED:20260421T072755Z
UID:10000011-1787238000-1787245200@www.ihmert.com
SUMMARY:Bürgercafé
DESCRIPTION:Einfach mal vorbeikommen\, Platz nehmen und ins Gespräch kommen: Unser Bürgercafé ist der offene Treffpunkt für alle\, die Gemeinschaft erleben möchten. Bei Kaffee und Kuchen entstehen hier Begegnungen\, gute Gespräche und neue Ideen für unser Dorf. \n👉 Kommen Sie vorbei – wir freuen uns auf Sie!
URL:https://www.ihmert.com/veranstaltung/buergercafe/2026-08-20/
LOCATION:Bürgertreff Berkenhoff\, Ihmerter Str. 279\, Hemer\, NRW\, 58675\, Germany
ATTACH;FMTTYPE=image/jpeg:https://www.ihmert.com/wp-content/uploads/2026/04/Buergercafe.jpg
ORGANIZER;CN="Wir in Ihmert e.V.":MAILTO:info@wir-in-ihmert.de
END:VEVENT
BEGIN:VEVENT
DTSTART;TZID=Europe/Berlin:20260903T150000
DTEND;TZID=Europe/Berlin:20260903T170000
DTSTAMP:20260421T140533
CREATED:20260421T070957Z
LAST-MODIFIED:20260421T072755Z
UID:10000012-1788447600-1788454800@www.ihmert.com
SUMMARY:Bürgercafé
DESCRIPTION:Einfach mal vorbeikommen\, Platz nehmen und ins Gespräch kommen: Unser Bürgercafé ist der offene Treffpunkt für alle\, die Gemeinschaft erleben möchten. Bei Kaffee und Kuchen entstehen hier Begegnungen\, gute Gespräche und neue Ideen für unser Dorf. \n👉 Kommen Sie vorbei – wir freuen uns auf Sie!
URL:https://www.ihmert.com/veranstaltung/buergercafe/2026-09-03/
LOCATION:Bürgertreff Berkenhoff\, Ihmerter Str. 279\, Hemer\, NRW\, 58675\, Germany
ATTACH;FMTTYPE=image/jpeg:https://www.ihmert.com/wp-content/uploads/2026/04/Buergercafe.jpg
ORGANIZER;CN="Wir in Ihmert e.V.":MAILTO:info@wir-in-ihmert.de
END:VEVENT
BEGIN:VEVENT
DTSTART;TZID=Europe/Berlin:20260917T150000
DTEND;TZID=Europe/Berlin:20260917T170000
DTSTAMP:20260421T140533
CREATED:20260421T070957Z
LAST-MODIFIED:20260421T072755Z
UID:10000013-1789657200-1789664400@www.ihmert.com
SUMMARY:Bürgercafé
DESCRIPTION:Einfach mal vorbeikommen\, Platz nehmen und ins Gespräch kommen: Unser Bürgercafé ist der offene Treffpunkt für alle\, die Gemeinschaft erleben möchten. Bei Kaffee und Kuchen entstehen hier Begegnungen\, gute Gespräche und neue Ideen für unser Dorf. \n👉 Kommen Sie vorbei – wir freuen uns auf Sie!
URL:https://www.ihmert.com/veranstaltung/buergercafe/2026-09-17/
LOCATION:Bürgertreff Berkenhoff\, Ihmerter Str. 279\, Hemer\, NRW\, 58675\, Germany
ATTACH;FMTTYPE=image/jpeg:https://www.ihmert.com/wp-content/uploads/2026/04/Buergercafe.jpg
ORGANIZER;CN="Wir in Ihmert e.V.":MAILTO:info@wir-in-ihmert.de
END:VEVENT
BEGIN:VEVENT
DTSTART;TZID=Europe/Berlin:20261001T150000
DTEND;TZID=Europe/Berlin:20261001T170000
DTSTAMP:20260421T140533
CREATED:20260421T070957Z
LAST-MODIFIED:20260421T072755Z
UID:10000014-1790866800-1790874000@www.ihmert.com
SUMMARY:Bürgercafé
DESCRIPTION:Einfach mal vorbeikommen\, Platz nehmen und ins Gespräch kommen: Unser Bürgercafé ist der offene Treffpunkt für alle\, die Gemeinschaft erleben möchten. Bei Kaffee und Kuchen entstehen hier Begegnungen\, gute Gespräche und neue Ideen für unser Dorf. \n👉 Kommen Sie vorbei – wir freuen uns auf Sie!
URL:https://www.ihmert.com/veranstaltung/buergercafe/2026-10-01/
LOCATION:Bürgertreff Berkenhoff\, Ihmerter Str. 279\, Hemer\, NRW\, 58675\, Germany
ATTACH;FMTTYPE=image/jpeg:https://www.ihmert.com/wp-content/uploads/2026/04/Buergercafe.jpg
ORGANIZER;CN="Wir in Ihmert e.V.":MAILTO:info@wir-in-ihmert.de
END:VEVENT
BEGIN:VEVENT
DTSTART;TZID=Europe/Berlin:20261015T150000
DTEND;TZID=Europe/Berlin:20261015T170000
DTSTAMP:20260421T140533
CREATED:20260421T070957Z
LAST-MODIFIED:20260421T072755Z
UID:10000015-1792076400-1792083600@www.ihmert.com
SUMMARY:Bürgercafé
DESCRIPTION:Einfach mal vorbeikommen\, Platz nehmen und ins Gespräch kommen: Unser Bürgercafé ist der offene Treffpunkt für alle\, die Gemeinschaft erleben möchten. Bei Kaffee und Kuchen entstehen hier Begegnungen\, gute Gespräche und neue Ideen für unser Dorf. \n👉 Kommen Sie vorbei – wir freuen uns auf Sie!
URL:https://www.ihmert.com/veranstaltung/buergercafe/2026-10-15/
LOCATION:Bürgertreff Berkenhoff\, Ihmerter Str. 279\, Hemer\, NRW\, 58675\, Germany
ATTACH;FMTTYPE=image/jpeg:https://www.ihmert.com/wp-content/uploads/2026/04/Buergercafe.jpg
ORGANIZER;CN="Wir in Ihmert e.V.":MAILTO:info@wir-in-ihmert.de
END:VEVENT
BEGIN:VEVENT
DTSTART;TZID=Europe/Berlin:20261105T150000
DTEND;TZID=Europe/Berlin:20261105T170000
DTSTAMP:20260421T140533
CREATED:20260421T070957Z
LAST-MODIFIED:20260421T072755Z
UID:10000016-1793890800-1793898000@www.ihmert.com
SUMMARY:Bürgercafé
DESCRIPTION:Einfach mal vorbeikommen\, Platz nehmen und ins Gespräch kommen: Unser Bürgercafé ist der offene Treffpunkt für alle\, die Gemeinschaft erleben möchten. Bei Kaffee und Kuchen entstehen hier Begegnungen\, gute Gespräche und neue Ideen für unser Dorf. \n👉 Kommen Sie vorbei – wir freuen uns auf Sie!
URL:https://www.ihmert.com/veranstaltung/buergercafe/2026-11-05/
LOCATION:Bürgertreff Berkenhoff\, Ihmerter Str. 279\, Hemer\, NRW\, 58675\, Germany
ATTACH;FMTTYPE=image/jpeg:https://www.ihmert.com/wp-content/uploads/2026/04/Buergercafe.jpg
ORGANIZER;CN="Wir in Ihmert e.V.":MAILTO:info@wir-in-ihmert.de
END:VEVENT
BEGIN:VEVENT
DTSTART;TZID=Europe/Berlin:20261119T150000
DTEND;TZID=Europe/Berlin:20261119T170000
DTSTAMP:20260421T140533
CREATED:20260421T070957Z
LAST-MODIFIED:20260421T072755Z
UID:10000017-1795100400-1795107600@www.ihmert.com
SUMMARY:Bürgercafé
DESCRIPTION:Einfach mal vorbeikommen\, Platz nehmen und ins Gespräch kommen: Unser Bürgercafé ist der offene Treffpunkt für alle\, die Gemeinschaft erleben möchten. Bei Kaffee und Kuchen entstehen hier Begegnungen\, gute Gespräche und neue Ideen für unser Dorf. \n👉 Kommen Sie vorbei – wir freuen uns auf Sie!
URL:https://www.ihmert.com/veranstaltung/buergercafe/2026-11-19/
LOCATION:Bürgertreff Berkenhoff\, Ihmerter Str. 279\, Hemer\, NRW\, 58675\, Germany
ATTACH;FMTTYPE=image/jpeg:https://www.ihmert.com/wp-content/uploads/2026/04/Buergercafe.jpg
ORGANIZER;CN="Wir in Ihmert e.V.":MAILTO:info@wir-in-ihmert.de
END:VEVENT
BEGIN:VEVENT
DTSTART;TZID=Europe/Berlin:20261203T150000
DTEND;TZID=Europe/Berlin:20261203T170000
DTSTAMP:20260421T140533
CREATED:20260421T070957Z
LAST-MODIFIED:20260421T072755Z
UID:10000018-1796310000-1796317200@www.ihmert.com
SUMMARY:Bürgercafé
DESCRIPTION:Einfach mal vorbeikommen\, Platz nehmen und ins Gespräch kommen: Unser Bürgercafé ist der offene Treffpunkt für alle\, die Gemeinschaft erleben möchten. Bei Kaffee und Kuchen entstehen hier Begegnungen\, gute Gespräche und neue Ideen für unser Dorf. \n👉 Kommen Sie vorbei – wir freuen uns auf Sie!
URL:https://www.ihmert.com/veranstaltung/buergercafe/2026-12-03/
LOCATION:Bürgertreff Berkenhoff\, Ihmerter Str. 279\, Hemer\, NRW\, 58675\, Germany
ATTACH;FMTTYPE=image/jpeg:https://www.ihmert.com/wp-content/uploads/2026/04/Buergercafe.jpg
ORGANIZER;CN="Wir in Ihmert e.V.":MAILTO:info@wir-in-ihmert.de
END:VEVENT
BEGIN:VEVENT
DTSTART;TZID=Europe/Berlin:20261217T150000
DTEND;TZID=Europe/Berlin:20261217T170000
DTSTAMP:20260421T140533
CREATED:20260421T070957Z
LAST-MODIFIED:20260421T072755Z
UID:10000019-1797519600-1797526800@www.ihmert.com
SUMMARY:Bürgercafé
DESCRIPTION:Einfach mal vorbeikommen\, Platz nehmen und ins Gespräch kommen: Unser Bürgercafé ist der offene Treffpunkt für alle\, die Gemeinschaft erleben möchten. Bei Kaffee und Kuchen entstehen hier Begegnungen\, gute Gespräche und neue Ideen für unser Dorf. \n👉 Kommen Sie vorbei – wir freuen uns auf Sie!
URL:https://www.ihmert.com/veranstaltung/buergercafe/2026-12-17/
LOCATION:Bürgertreff Berkenhoff\, Ihmerter Str. 279\, Hemer\, NRW\, 58675\, Germany
ATTACH;FMTTYPE=image/jpeg:https://www.ihmert.com/wp-content/uploads/2026/04/Buergercafe.jpg
ORGANIZER;CN="Wir in Ihmert e.V.":MAILTO:info@wir-in-ihmert.de
END:VEVENT
END:VCALENDAR