BEGIN:VCALENDAR
VERSION:2.0
PRODID:-//Ihmert - ECPv6.15.20//NONSGML v1.0//EN
CALSCALE:GREGORIAN
METHOD:PUBLISH
X-ORIGINAL-URL:https://www.ihmert.com
X-WR-CALDESC:Veranstaltungen für Ihmert
REFRESH-INTERVAL;VALUE=DURATION:PT1H
X-Robots-Tag:noindex
X-PUBLISHED-TTL:PT1H
BEGIN:VTIMEZONE
TZID:Europe/Berlin
BEGIN:DAYLIGHT
TZOFFSETFROM:+0100
TZOFFSETTO:+0200
TZNAME:CEST
DTSTART:20250330T010000
END:DAYLIGHT
BEGIN:STANDARD
TZOFFSETFROM:+0200
TZOFFSETTO:+0100
TZNAME:CET
DTSTART:20251026T010000
END:STANDARD
BEGIN:DAYLIGHT
TZOFFSETFROM:+0100
TZOFFSETTO:+0200
TZNAME:CEST
DTSTART:20260329T010000
END:DAYLIGHT
BEGIN:STANDARD
TZOFFSETFROM:+0200
TZOFFSETTO:+0100
TZNAME:CET
DTSTART:20261025T010000
END:STANDARD
BEGIN:DAYLIGHT
TZOFFSETFROM:+0100
TZOFFSETTO:+0200
TZNAME:CEST
DTSTART:20270328T010000
END:DAYLIGHT
BEGIN:STANDARD
TZOFFSETFROM:+0200
TZOFFSETTO:+0100
TZNAME:CET
DTSTART:20271031T010000
END:STANDARD
END:VTIMEZONE
BEGIN:VEVENT
DTSTART;TZID=Europe/Berlin:20261028T143000
DTEND;TZID=Europe/Berlin:20261028T163000
DTSTAMP:20260421T174753
CREATED:20260421T090937Z
LAST-MODIFIED:20260421T091111Z
UID:10000027-1793197800-1793205000@www.ihmert.com
SUMMARY:Nähtreff
DESCRIPTION:Spaß am Nähen? \n\nTreffpunkt: Jeder letzte Mittwoch im Monat um 14.30 Uhr.\nHier können sich begeisterte NäherInnen treffen und austauschen.\nJeder bringt eigene Projekte mit und kann dann mit oder ohne Hilfe daran arbeiten.\nIn der Gruppe nähen und einen schönen Nachmittag verbringen.\nMöglichst mit eigener  Nähmaschine.\nAnmeldung und weitere Infos bei unserer Hobbynäherin Ingried Söte unter 02372/81332.\n\nWir freuen uns auf euch und eure Projekte!
URL:https://www.ihmert.com/veranstaltung/naehtreff/2026-10-28/
LOCATION:Ev. Kirche Ihmert\, Ihmerter Str. 218\, Hemer\, NRW\, 58675\, Germany
ATTACH;FMTTYPE=image/jpeg:https://www.ihmert.com/wp-content/uploads/2026/04/Hemer-IhmertKirche1-Asio.jpg
ORGANIZER;CN="Evangelische Kirchengemeinde Ihmert":MAILTO:is-kg-ihmert@ekvw.de
END:VEVENT
BEGIN:VEVENT
DTSTART;TZID=Europe/Berlin:20261031T090000
DTEND;TZID=Europe/Berlin:20261031T110000
DTSTAMP:20260421T174753
CREATED:20260421T091747Z
LAST-MODIFIED:20260421T091747Z
UID:10000036-1793437200-1793444400@www.ihmert.com
SUMMARY:Dorf-Frühstück
DESCRIPTION:
URL:https://www.ihmert.com/veranstaltung/dorf-fruehstueck/2026-10-31/
LOCATION:Ev. Kirche Ihmert\, Ihmerter Str. 218\, Hemer\, NRW\, 58675\, Germany
ATTACH;FMTTYPE=image/jpeg:https://www.ihmert.com/wp-content/uploads/2026/04/Hemer-IhmertKirche1-Asio.jpg
ORGANIZER;CN="Evangelische Kirchengemeinde Ihmert":MAILTO:is-kg-ihmert@ekvw.de
END:VEVENT
BEGIN:VEVENT
DTSTART;TZID=Europe/Berlin:20261125T143000
DTEND;TZID=Europe/Berlin:20261125T163000
DTSTAMP:20260421T174753
CREATED:20260421T090937Z
LAST-MODIFIED:20260421T091111Z
UID:10000028-1795617000-1795624200@www.ihmert.com
SUMMARY:Nähtreff
DESCRIPTION:Spaß am Nähen? \n\nTreffpunkt: Jeder letzte Mittwoch im Monat um 14.30 Uhr.\nHier können sich begeisterte NäherInnen treffen und austauschen.\nJeder bringt eigene Projekte mit und kann dann mit oder ohne Hilfe daran arbeiten.\nIn der Gruppe nähen und einen schönen Nachmittag verbringen.\nMöglichst mit eigener  Nähmaschine.\nAnmeldung und weitere Infos bei unserer Hobbynäherin Ingried Söte unter 02372/81332.\n\nWir freuen uns auf euch und eure Projekte!
URL:https://www.ihmert.com/veranstaltung/naehtreff/2026-11-25/
LOCATION:Ev. Kirche Ihmert\, Ihmerter Str. 218\, Hemer\, NRW\, 58675\, Germany
ATTACH;FMTTYPE=image/jpeg:https://www.ihmert.com/wp-content/uploads/2026/04/Hemer-IhmertKirche1-Asio.jpg
ORGANIZER;CN="Evangelische Kirchengemeinde Ihmert":MAILTO:is-kg-ihmert@ekvw.de
END:VEVENT
BEGIN:VEVENT
DTSTART;TZID=Europe/Berlin:20261128T090000
DTEND;TZID=Europe/Berlin:20261128T110000
DTSTAMP:20260421T174753
CREATED:20260421T091747Z
LAST-MODIFIED:20260421T091747Z
UID:10000037-1795856400-1795863600@www.ihmert.com
SUMMARY:Dorf-Frühstück
DESCRIPTION:
URL:https://www.ihmert.com/veranstaltung/dorf-fruehstueck/2026-11-28/
LOCATION:Ev. Kirche Ihmert\, Ihmerter Str. 218\, Hemer\, NRW\, 58675\, Germany
ATTACH;FMTTYPE=image/jpeg:https://www.ihmert.com/wp-content/uploads/2026/04/Hemer-IhmertKirche1-Asio.jpg
ORGANIZER;CN="Evangelische Kirchengemeinde Ihmert":MAILTO:is-kg-ihmert@ekvw.de
END:VEVENT
BEGIN:VEVENT
DTSTART;TZID=Europe/Berlin:20261223T143000
DTEND;TZID=Europe/Berlin:20261223T163000
DTSTAMP:20260421T174753
CREATED:20260421T090937Z
LAST-MODIFIED:20260421T091111Z
UID:10000029-1798036200-1798043400@www.ihmert.com
SUMMARY:Nähtreff
DESCRIPTION:Spaß am Nähen? \n\nTreffpunkt: Jeder letzte Mittwoch im Monat um 14.30 Uhr.\nHier können sich begeisterte NäherInnen treffen und austauschen.\nJeder bringt eigene Projekte mit und kann dann mit oder ohne Hilfe daran arbeiten.\nIn der Gruppe nähen und einen schönen Nachmittag verbringen.\nMöglichst mit eigener  Nähmaschine.\nAnmeldung und weitere Infos bei unserer Hobbynäherin Ingried Söte unter 02372/81332.\n\nWir freuen uns auf euch und eure Projekte!
URL:https://www.ihmert.com/veranstaltung/naehtreff/2026-12-23/
LOCATION:Ev. Kirche Ihmert\, Ihmerter Str. 218\, Hemer\, NRW\, 58675\, Germany
ATTACH;FMTTYPE=image/jpeg:https://www.ihmert.com/wp-content/uploads/2026/04/Hemer-IhmertKirche1-Asio.jpg
ORGANIZER;CN="Evangelische Kirchengemeinde Ihmert":MAILTO:is-kg-ihmert@ekvw.de
END:VEVENT
END:VCALENDAR